BEGIN:VCALENDAR
VERSION:2.0
PRODID:-//Dominion Mandate - ECPv6.15.20//NONSGML v1.0//EN
CALSCALE:GREGORIAN
METHOD:PUBLISH
X-ORIGINAL-URL:https://www.dominion-mandate.com
X-WR-CALDESC:Events for Dominion Mandate
REFRESH-INTERVAL;VALUE=DURATION:PT1H
X-Robots-Tag:noindex
X-PUBLISHED-TTL:PT1H
BEGIN:VTIMEZONE
TZID:Europe/London
BEGIN:DAYLIGHT
TZOFFSETFROM:+0000
TZOFFSETTO:+0100
TZNAME:BST
DTSTART:20240331T010000
END:DAYLIGHT
BEGIN:STANDARD
TZOFFSETFROM:+0100
TZOFFSETTO:+0000
TZNAME:GMT
DTSTART:20241027T010000
END:STANDARD
BEGIN:DAYLIGHT
TZOFFSETFROM:+0000
TZOFFSETTO:+0100
TZNAME:BST
DTSTART:20250330T010000
END:DAYLIGHT
BEGIN:STANDARD
TZOFFSETFROM:+0100
TZOFFSETTO:+0000
TZNAME:GMT
DTSTART:20251026T010000
END:STANDARD
BEGIN:DAYLIGHT
TZOFFSETFROM:+0000
TZOFFSETTO:+0100
TZNAME:BST
DTSTART:20260329T010000
END:DAYLIGHT
BEGIN:STANDARD
TZOFFSETFROM:+0100
TZOFFSETTO:+0000
TZNAME:GMT
DTSTART:20261025T010000
END:STANDARD
END:VTIMEZONE
BEGIN:VEVENT
DTSTART;TZID=Europe/London:20251129T080000
DTEND;TZID=Europe/London:20251129T090000
DTSTAMP:20260420T134715
CREATED:20250918T125014Z
LAST-MODIFIED:20250918T125033Z
UID:2520-1764403200-1764406800@www.dominion-mandate.com
SUMMARY:Building Together – Pricing for A Sustainable Business
DESCRIPTION:This an important 1 hour that could transform your pricing strategy. \nThis workshop will: \n\nRaise awareness of mindsets around pricing\nDiscuss why pricing matters in your business strategy\nIntroduce different pricing frameworks\nShare key pricing factors to consider in your business\nHelp you start applying pricing principles to your business\n\nNatan is a Life and Business coach dedicated to empowering professionals and entrepreneurs grow with purpose\, confidence and joy. She specializes in supporting clients who are building or scaling their businesses\, transitioning from professional careers to entrepreneurship\, looking to develop & improve their professional careers\, helping them craft strategies that are both practical and authentically aligned with who they are. With nearly 15 years of experience spanning Management Consulting\, Accounting & Finance and Coaching\, she brings both strategic expertise and a people-first approach to her work. \nShe is CIMA-qualified\, a member of the International Coaching Federation (ICF)\, holds an MSc in Strategic Financial Management and a BSc in Computing Science. Before transitioning into Coaching\, she spent almost a decade at a Big 4 consultancy\, working with CFOs on large scale Finance Transformation programmes. \nNatan sees herself as a strategic partner to her clients. Her approach is collaborative\, energizing and future-focused – helping people build lives\, careers and businesses that reflect their values while staying commercially sound. \n\nSaturday 29th November\n8am-9am GMT\nGuest Speaker – Natan Oredugba\nRegistration – free
URL:https://www.dominion-mandate.com/event/building-together-pricing-for-a-sustainable-business/
LOCATION:Online Workshop
CATEGORIES:Online Workshop
ATTACH;FMTTYPE=image/png:https://www.dominion-mandate.com/wp-content/uploads/2025/09/Picture-1.png
ORGANIZER;CN="Dominion Mandate":MAILTO:info@dominion-mandate.com
END:VEVENT
BEGIN:VEVENT
DTSTART;TZID=Europe/London:20251101T080000
DTEND;TZID=Europe/London:20251101T090000
DTSTAMP:20260420T134715
CREATED:20250816T020332Z
LAST-MODIFIED:20250827T192333Z
UID:2468-1761984000-1761987600@www.dominion-mandate.com
SUMMARY:Building Together - Agentic AI: The Next Evolution of Intelligent Business Systems
DESCRIPTION:How AI agents are moving from reactive tools to autonomous decision-makers\, and what this means for productivity\, service delivery\, and business growth. \nAbout Sam \nSam Onigbanjo is a n Alumni of Said Business School\, University of Oxford \, globally recognised Go-to-Market Architect and Business Growth Strategist who integrates Artificial Intelligence as a core driver of revenue\, efficiency\, and market expansion. A Certified Digital Marketer and AI Prompt Engineer\, he combines smart automation\, AI-powered personalisation\, and advanced analytics to help businesses scale with precision and speed. \nAs Founder of the AI Academy for Beginners\, Sam equips entrepreneurs\, coaches\, and corporate teams to harness AI without coding expertise. His training programmes centre on three pillars: AI as a productivity sidekick\, faceless marketing to expand reach\, and AI-driven cash-flow scaling. His proprietary S.C.A.L.E GTM Optimisation System has accelerated growth for companies across multiple sectors\, blending strategic frameworks with AI applications such as automated lead generation\, omnichannel customer service\, and data-driven decision-making. \nThrough live demonstrations\, his “Pain Point Dive” method\, and industry-specific AI applications\, Sam empowers organisations to unlock new revenue streams\, reduce operational costs\, and future-proof their growth in a rapidly changing digital economy. \n1st November\n8am – 9am\nOnline workshop
URL:https://www.dominion-mandate.com/event/building-together-agentic-ai-the-next-evolution-of-intelligent-business-systems/
LOCATION:Online Workshop
CATEGORIES:Online Workshop
ATTACH;FMTTYPE=image/jpeg:https://www.dominion-mandate.com/wp-content/uploads/2025/08/Sam.jpg
END:VEVENT
BEGIN:VEVENT
DTSTART;TZID=Europe/London:20251004T080000
DTEND;TZID=Europe/London:20251004T090000
DTSTAMP:20260420T134715
CREATED:20250731T165810Z
LAST-MODIFIED:20250807T062757Z
UID:2392-1759564800-1759568400@www.dominion-mandate.com
SUMMARY:Building Together - To Build Generational Wealth Through Entrepreneurship
DESCRIPTION:Join us for a transformative event designed for Christian entrepreneurs who are serious about aligning their business and finances with their faith and long-term vision. \nThis session is rooted in  “A good man leaves an inheritance to his children’s children…” Proverbs 13:22 \nIt will go way beyond motivation to deliver practical tools\, biblical insight\, and financial wisdom to help you create wealth that lasts and impacts generations. \nYou’ll walk away with: \n\nA renewed money mindset that supports growth and stewardship\nClarity on your money story and how to rewrite it for breakthrough\nA clear definition of what a biblical wealth mindset looks like\nPractical steps to separate and manage your business and personal finances\nStrategies to structure your business for long-term sustainability and legacy\n\nWhether you’re leading a growing company\, solo venture\, or small team\, this session will help you step fully into your role as a faith-filled founder with a kingdom-driven mission. \n \nAbout Tsitsi \nTsitsi has over 10 years of experience in the wealth management industry and is today recognised as a Wealth Coach and award-winning Investment Manager.  She is also the host of The Wealth Conversation Podcast. \nTsitsi openly shares her personal journey of overcoming debt and financial fear so she could redesign her financial future. Her lived experience is the basis of The C.H.O.I.C.E.S Blueprint™\, which she developed to guide high-achieving women to confidently make the choices that will create the opportunities and generational wealth they desire. \nIn addition to her financial coaching programmes\, Tsitsi supports women who are navigating significant financial transitions such as inheritance\, divorce\, and business exits to take control of their finances with confidence. Tsitsi is a sought-after speaker\, panellist and podcast guest. She is also a proud mother\, wife and aunt. \n\n4th October\n8am – 9am\nOnline workshop
URL:https://www.dominion-mandate.com/event/building-together-to-build-generational-wealth-through-entrepreneurship/
LOCATION:Online Workshop
CATEGORIES:Online Workshop
ATTACH;FMTTYPE=image/jpeg:https://www.dominion-mandate.com/wp-content/uploads/2025/07/Headshot-Tsitsi-scaled.jpeg
ORGANIZER;CN="Dominion Mandate":MAILTO:info@dominion-mandate.com
END:VEVENT
BEGIN:VEVENT
DTSTART;TZID=Europe/London:20250927T080000
DTEND;TZID=Europe/London:20250927T090000
DTSTAMP:20260420T134715
CREATED:20250724T033117Z
LAST-MODIFIED:20250731T165126Z
UID:2385-1758960000-1758963600@www.dominion-mandate.com
SUMMARY:Building Together - The Art of Sales
DESCRIPTION:From winning your first customer to pricing your offer with clarity and confidence\, this talk will help you shift from guessing to growing. Francis shares a simple but powerful approach to sales that removes the fluff and focuses on what actually drives revenue: value\, trust\, and timing. You’ll leave with frameworks and tools to build momentum\, close deals\, and make your product or service stand out in any market. \n \nAbout Francis \nFrancis Aremo is a dynamic sales leader\, strategist\, and growth advisor with more than 16 years of experience delivering transformational revenue results for fast-scaling organisations. \nAs a dedicated mentor and trainer\, he has equipped 100’s of sales professionals with the confidence\, skills\, and frameworks to thrive in competitive environments. \nWith a proven record of closing and overseeing deals worth over £50 million and building partnerships that extend brand influence and profitability\, Francis is passionate about empowering people to rise through purposeful connection and commercial excellence. He continues to share insights on leadership\, culture\, and authentic relationship-based selling through his consulting platform and speaking engagements. \nBuilding Together – The Art of Sales \n\nGuest Speaker – Francis Aremo\nDate – 27th September\nTime – 8am-9am GMT
URL:https://www.dominion-mandate.com/event/building-together-the-art-of-sales/
LOCATION:Online Workshop
CATEGORIES:Webinar
ATTACH;FMTTYPE=image/jpeg:https://www.dominion-mandate.com/wp-content/uploads/2025/07/Francis-1.jpg
ORGANIZER;CN="Dominion Mandate":MAILTO:info@dominion-mandate.com
END:VEVENT
BEGIN:VEVENT
DTSTART;TZID=Europe/London:20250705T100000
DTEND;TZID=Europe/London:20250705T163000
DTSTAMP:20260420T134715
CREATED:20241023T234625Z
LAST-MODIFIED:20250413T191012Z
UID:1704-1751709600-1751733000@www.dominion-mandate.com
SUMMARY:Are You Ready to Possess the Land?
DESCRIPTION:Step into your calling as a Kingdom entrepreneur and join us on Saturday\, July 5th\, from 10:00 AM to 4:30 PM for a powerful and transformative workshop designed to help you take ground in the marketplace—God’s way.\n“Are You Ready to Possess?” is not just a workshop—it’s a strategic and Spirit-led encounter rooted in the Dominion Mandate (Genesis 1:26–28). Whether you’re launching a new venture or scaling a business with a turnover between £1\,000 and £150\,000\, this immersive experience is tailored for you.\nHere’s what you can expect:\n\n\nA unique\, interactive learning environment featuring the Dominion Mandate Game—a dynamic\, thought-provoking tool that will challenge your thinking and stretch your faith.\nBiblically grounded insights that move beyond theory into transformational practice—helping you align your business with God’s purpose.\nDeep\, honest discussions about Kingdom principles\, stewardship\, influence\, and impact in the marketplace.\nStrategic facilitation by Akin Thomas\, steward and author of Dominion Mandate\, and Mosope Adeyemi\, founder of Visible Strengths Co Ltd and a recognized voice in the Kingdom business movement.\n\nRefreshments and lunch are included\, creating space not only for nourishment but meaningful connection and fellowship.\nThis isn’t just about growing a business—it’s about advancing the Kingdom through your divine assignment.\n\nDon’t miss this chance to:\n\n\nClarify your purpose.\nConfront spiritual and marketplace challenges.\nCollaborate with like-minded entrepreneurs.\nPossess the promises of God in business.\n\nSpaces are limited—secure your place today.\n\n\n\n\n\nSaturday 5th July\n10am-4:30pm\nArc South\, 113 Anerley Road\, London\, SE20 8AJ\n\nLunch and refreshments are included\nCost – £40 inc VAT
URL:https://www.dominion-mandate.com/event/dm-workshop/
LOCATION:Arc South\, Arc South\, 113 Anerley Road\, London\, SE20 8AJ\, United Kingdom
CATEGORIES:Workshop
ATTACH;FMTTYPE=image/jpeg:https://www.dominion-mandate.com/wp-content/uploads/2024/10/DM-game.jpg
ORGANIZER;CN="Dominion Mandate":MAILTO:info@dominion-mandate.com
END:VEVENT
BEGIN:VEVENT
DTSTART;TZID=Europe/London:20250329T120000
DTEND;TZID=Europe/London:20250329T170000
DTSTAMP:20260420T134715
CREATED:20250313T075024Z
LAST-MODIFIED:20250313T075352Z
UID:2314-1743249600-1743267600@www.dominion-mandate.com
SUMMARY:Arc Book Fair
DESCRIPTION:Date – Saturday 29th March\nTime – 12 -5\nVenue – Arc South\, 113 Anerley Road\, London\, SE20 8AJ \nBooks have the power to inspire\, transform\, and strengthen our faith. If you’re looking for something that will challenge and equip you to walk in your God-given purpose\, I’ve got the perfect opportunity for you! \nJoin us at the Arc South Book Fair on Saturday\, 29th March 2025\, from 12-5 PM at 113 Anerley Road\, Penge\, SE20 8AJ. Meet amazing Christian authors\, discover faith-filled books\, and be part of a community passionate about storytelling that glorifies God. \nWe will also be sharing Dominion Mandate\, a powerful resource for business leaders and entrepreneurs who want to build according to Kingdom principles. Don’t miss it! \nSee you there! Feel free to share this with anyone who would love to come. 🙌🏽
URL:https://www.dominion-mandate.com/event/arc-book-fair/
LOCATION:Arc South\, Arc South\, 113 Anerley Road\, London\, SE20 8AJ\, United Kingdom
CATEGORIES:Event
ATTACH;FMTTYPE=image/jpeg:https://www.dominion-mandate.com/wp-content/uploads/2025/03/WhatsApp-Image-2025-03-06-at-15.27.45_dd7475be.jpg
ORGANIZER;CN="Dominion Mandate":MAILTO:info@dominion-mandate.com
END:VEVENT
BEGIN:VEVENT
DTSTART;TZID=Europe/London:20250201T130000
DTEND;TZID=Europe/London:20250201T150000
DTSTAMP:20260420T134715
CREATED:20241229T075013Z
LAST-MODIFIED:20241229T075046Z
UID:2101-1738414800-1738422000@www.dominion-mandate.com
SUMMARY:Dominion Mandate – The Book Launch - Birmingham
DESCRIPTION:Date – 1st February 2025\nTime – 1:00pm – 3:00pm\nVenue – Anchor Point\, 58 Chester Road\, Birmingham\, B6 4BE
URL:https://www.dominion-mandate.com/event/dominion-mandate-the-book-launch-birmingham/
LOCATION:Anchor Point\, Anchor Point\, 58 Chester Road\, Birmingham\, B6 4BE\, United Kingdom
CATEGORIES:Event
ATTACH;FMTTYPE=image/jpeg:https://www.dominion-mandate.com/wp-content/uploads/2024/12/Mockup-42.jpg
ORGANIZER;CN="Dominion Mandate":MAILTO:info@dominion-mandate.com
END:VEVENT
BEGIN:VEVENT
DTSTART;TZID=Europe/London:20250125T180000
DTEND;TZID=Europe/London:20250125T203000
DTSTAMP:20260420T134715
CREATED:20241205T025449Z
LAST-MODIFIED:20241229T075057Z
UID:2056-1737828000-1737837000@www.dominion-mandate.com
SUMMARY:Is Faith an Asset in the marketplace?
DESCRIPTION:Free online workshop \n\nSaturday 25th January\n6pm – 8:30pm
URL:https://www.dominion-mandate.com/event/is-faith-an-asset-in-the-marketplace/
LOCATION:Online Workshop
CATEGORIES:Online Workshop
ATTACH;FMTTYPE=image/jpeg:https://www.dominion-mandate.com/wp-content/uploads/2024/10/A96I4808-scaled.jpg
ORGANIZER;CN="Dominion Mandate":MAILTO:info@dominion-mandate.com
END:VEVENT
BEGIN:VEVENT
DTSTART;TZID=Europe/London:20250124T190000
DTEND;TZID=Europe/London:20250124T210000
DTSTAMP:20260420T134715
CREATED:20241205T030019Z
LAST-MODIFIED:20250125T211637Z
UID:2060-1737745200-1737752400@www.dominion-mandate.com
SUMMARY:Dominion Mandate - The Book Launch
DESCRIPTION:Friday 24th January\n7pm – 9pm\nAfrica Centre\nRegister now – limited places available
URL:https://www.dominion-mandate.com/event/dominion-mandate-the-book-launch/
LOCATION:The Africa Centre\, The Africa Centre\, 66 Great Suffolk Street\, London\, SE1 0BL\, United Kingdom
CATEGORIES:Event
ATTACH;FMTTYPE=image/jpeg:https://www.dominion-mandate.com/wp-content/uploads/2024/10/Mockup-4.jpg
ORGANIZER;CN="Dominion Mandate":MAILTO:info@dominion-mandate.com
END:VEVENT
END:VCALENDAR